BEGIN:VCALENDAR
VERSION:2.0
PRODID:-//wp-events-plugin.com//7.2.3.1//EN
TZID:Europe/Paris
X-WR-TIMEZONE:Europe/Paris
BEGIN:VEVENT
UID:55@musicalemans.fr
DTSTART;TZID=Europe/Paris:20260621T000000
DTEND;TZID=Europe/Paris:20260621T000000
DTSTAMP:20260424T160942Z
URL:https://musicalemans.fr/index.php/events/fete-de-la-musique-2026/
SUMMARY:Fête de la Musique 2026
DESCRIPTION:Retrouvez nos deux orchestres dans l'après-midi pour fêter ce
 tte journée dédiée à la Musique !\n\nLes horaires seront précisés ul
 térieurement.
ATTACH;FMTTYPE=image/jpeg:https://musicalemans.fr/wp-content/uploads/2026/
 04/FDLM-2026_affiche_40x60_numerique-scaled.jpg
CATEGORIES:Orchestre Symphonique &amp; Orchestre d'Harmonie
LOCATION:Église du Pré\, Place du Pré\, Le Mans\, Pays de la Loire\, 720
 00\, Sarthe\, France
GEO:48.009501;0.192221
X-APPLE-STRUCTURED-LOCATION;VALUE=URI;X-ADDRESS=Place du Pré\, Le Mans\, P
 ays de la Loire\, 72000\, Sarthe\, France;X-APPLE-RADIUS=100;X-TITLE=Égli
 se du Pré:geo:48.009501,0.192221
END:VEVENT
BEGIN:VTIMEZONE
TZID:Europe/Paris
X-LIC-LOCATION:Europe/Paris
BEGIN:DAYLIGHT
DTSTART:20260329T030000
TZOFFSETFROM:+0100
TZOFFSETTO:+0200
TZNAME:CEST
END:DAYLIGHT
END:VTIMEZONE
END:VCALENDAR