BEGIN:VCALENDAR
VERSION:2.0
PRODID:-//wp-events-plugin.com//7.2.3.1//EN
TZID:Europe/Paris
X-WR-TIMEZONE:Europe/Paris
BEGIN:VEVENT
UID:54@musicalemans.fr
DTSTART;TZID=Europe/Paris:20260611T000000
DTEND;TZID=Europe/Paris:20260613T000000
DTSTAMP:20260424T161011Z
URL:https://musicalemans.fr/index.php/events/24h-du-mans-2026/
SUMMARY:24h du Mans 2026
DESCRIPTION:Retrouvez-nous dans les Fan Zones des 24h du Mans 2026 pour tro
 is concerts !\n\nJeudi 11 juin - Ensemble de cuivres de l'Orchestre d'Harm
 onie\n\n19h : Fan Zone Concert\n\n&nbsp\;\n\nSamedi 13 juin - Orchestre d'
 Harmonie&nbsp\;\n\n11h30 et 17h30 : Fan Zone Family\n\n&nbsp\;\n\n&nbsp\;\
 n\nConcerts gratuits\, accessibles avec un billet pour les 24h du Mans
ATTACH;FMTTYPE=image/jpeg:https://musicalemans.fr/wp-content/uploads/2026/
 04/6904cb7c637ae.jpg
CATEGORIES:Orchestre d'Harmonie
LOCATION:Circuit des 24h du Mans\, Place Luigi Chinetti\, Le Mans\, Pays de
  la Loire\, 72100\, Sarthe\, France
GEO:47.956256;0.214028
X-APPLE-STRUCTURED-LOCATION;VALUE=URI;X-ADDRESS=Place Luigi Chinetti\, Le M
 ans\, Pays de la Loire\, 72100\, Sarthe\, France;X-APPLE-RADIUS=100;X-TITL
 E=Circuit des 24h du Mans:geo:47.956256,0.214028
END:VEVENT
BEGIN:VTIMEZONE
TZID:Europe/Paris
X-LIC-LOCATION:Europe/Paris
BEGIN:DAYLIGHT
DTSTART:20260329T030000
TZOFFSETFROM:+0100
TZOFFSETTO:+0200
TZNAME:CEST
END:DAYLIGHT
END:VTIMEZONE
END:VCALENDAR